BEGIN:VCALENDAR
BEGIN:VEVENT
SUMMARY:Foreign Body\, Arklight\, Weird Magazines [nycnoise]
DTSTART:20251115T033000Z
DTEND:20251115T043000Z
UID:7af12e7a-27a6-4450-b9f2-6f86533d616b
CREATED:20260425T204015Z
DESCRIPTION:
LOCATION:alphaville (140 wilson ave\, brooklyn)
END:VEVENT
END:VCALENDAR
