BEGIN:VCALENDAR
BEGIN:VEVENT
SUMMARY:Maneka (Album Release)\, Fusilier\, jo passed [nycnoise]
DTSTART:20251114T000000Z
DTEND:20251114T010000Z
UID:e2d30f11-dcce-4ffa-9b15-2ea45390e018
CREATED:20260425T203701Z
DESCRIPTION:
LOCATION:alphaville (140 wilson ave\, brooklyn)
END:VEVENT
END:VCALENDAR
