BEGIN:VCALENDAR
BEGIN:VEVENT
SUMMARY:Elsewhere Presents: Shintaro Sakamoto [nycnoise]
DTSTART:20251104T233000Z
DTEND:20251105T003000Z
UID:3d7c494d-b8f3-474a-a933-fc1da8f000e3
CREATED:20260425T204014Z
DESCRIPTION:
LOCATION:knockdown center (52-19 flushing ave\, maspeth)
END:VEVENT
END:VCALENDAR
