BEGIN:VCALENDAR
BEGIN:VEVENT
SUMMARY:Good Ruined\, Smackin\, A Bunch of Dead People [nycnoise]
DTSTART:20251107T010000Z
DTEND:20251107T020000Z
UID:09d7bf49-391f-4e2a-a965-9357f7c7fd10
CREATED:20260425T203703Z
DESCRIPTION:
LOCATION:gold sounds (44 wilson ave\, brooklyn)
END:VEVENT
END:VCALENDAR
