BEGIN:VCALENDAR
BEGIN:VEVENT
SUMMARY:Tim Berne [nycnoise]
DTSTART:20251107T020000Z
DTEND:20251107T030000Z
UID:17fbca6a-01ca-4dbd-b7ec-75147eb088d0
CREATED:20260425T203702Z
DESCRIPTION:full lineup asap
LOCATION:lowlands (543 3rd ave\, brooklyn)
END:VEVENT
END:VCALENDAR
