BEGIN:VCALENDAR
BEGIN:VEVENT
SUMMARY:Tim Berne / Chris Lightcap / Dan Weiss / Gregg Belisle-Chi [nycnoi
 se]
DTSTART:20251114T020000Z
DTEND:20251114T030000Z
UID:0719bd82-4226-4882-a89b-68825885a85b
CREATED:20260425T203829Z
DESCRIPTION:lineup on insta
LOCATION:lowlands (543 3rd ave\, brooklyn)
END:VEVENT
END:VCALENDAR
