BEGIN:VCALENDAR
BEGIN:VEVENT
SUMMARY:Musics (Ilusha Tsinadze\, Gocha Tsinadze\, Chris Tordini\, Jason N
 azary) [nycnoise]
DTSTART:20251104T000000Z
DTEND:20251104T010000Z
UID:acc69c1e-9f33-49da-a2c9-3b99fdd373e1
CREATED:20260425T203701Z
DESCRIPTION:
LOCATION:barbès (376 9th st.\, brooklyn)
END:VEVENT
END:VCALENDAR
