BEGIN:VCALENDAR
BEGIN:VEVENT
SUMMARY:Simon Hanes' Tsons of Tsunami (w/ Kevin Newton\, Selendis Sebastia
 n Alexander Johnson\, Anna Abondolo\, Jon Starks ft. Billy Martin) [nycnoi
 se]
DTSTART:20251116T010000Z
DTEND:20251116T020000Z
UID:03bf9913-d387-4b96-847b-1c917d7cfb29
CREATED:20260425T204016Z
DESCRIPTION:
LOCATION:barbès (376 9th st.\, brooklyn)
END:VEVENT
END:VCALENDAR
