BEGIN:VCALENDAR
BEGIN:VEVENT
SUMMARY:Embodied Extensions | a night of spatial sound works: Lisa Schonbe
 rg\, C. Lavender\, Chloe Alexandra Thompson\, Jenn Grossman [nycnoise]
DTSTART:20251115T000000Z
DTEND:20251115T010000Z
UID:865a7906-9f11-48b1-b585-50d1218b4a57
CREATED:20260425T203850Z
DESCRIPTION:rsvp required for entry\; "hosted by WISE: Women Innovating So
 und Experience"
LOCATION:nyu silver center (31 Washington Pl\, New York\, NY 10003)
END:VEVENT
END:VCALENDAR
