BEGIN:VCALENDAR
BEGIN:VEVENT
SUMMARY:Marc Ribot: Map of a Blue City [nycnoise]
DTSTART:20251208T003000Z
DTEND:20251208T013000Z
UID:7aecfa23-e982-4d13-8847-414a16b8d6c5
CREATED:20260425T184113Z
DESCRIPTION:6:30pm doors
LOCATION:le poisson rouge (lpr) (158 bleecker st.\, manhattan)
END:VEVENT
END:VCALENDAR
