BEGIN:VCALENDAR
BEGIN:VEVENT
SUMMARY:Ryan Easter's Trap Music Orchestra [nycnoise]
DTSTART:20251204T000000Z
DTEND:20251204T010000Z
UID:a499860b-bab1-4493-82ed-170d9c32201e
CREATED:20260425T184105Z
DESCRIPTION:full lineup asap + livestream
LOCATION:jazz gallery (1160 broadway (on w. 27th)\, fl.5\, manhattan)
END:VEVENT
END:VCALENDAR
