BEGIN:VCALENDAR
BEGIN:VEVENT
SUMMARY:Pageant Presents: evan ray suzuki: 'plot hole\,' Night #1/2 [nycno
 ise]
DTSTART:20251107T010000Z
DTEND:20251107T020000Z
UID:bb2d1474-c6e4-4bb6-ba8d-5211c14ba4fe
CREATED:20260425T203704Z
DESCRIPTION:performance by ers w/ Amelia Heintzelman\, Benin Gardner\, Emm
 a Lee\, Sabrina Leira\, Zo Williams\; original music by Leo Chang
LOCATION:pageant (70 graham ave #3\, brooklyn)
END:VEVENT
END:VCALENDAR
