BEGIN:VCALENDAR
BEGIN:VEVENT
SUMMARY:Pageant Presents: Bella Thorpe Woods\, Clara Kim\, Night #2/2 [nyc
 noise]
DTSTART:20251206T010000Z
DTEND:20251206T020000Z
UID:e3ebb4df-742b-4945-8afb-da69c9f7f1c7
CREATED:20260425T183832Z
DESCRIPTION:
LOCATION:pageant (70 graham ave #3\, brooklyn)
END:VEVENT
END:VCALENDAR
