BEGIN:VCALENDAR
BEGIN:VEVENT
SUMMARY:SOUND STORM II: Cyan Twin\, Blackberry Knuckleduster\, Spiral Gene
 rator\, World Research Lab\, DJ Undisclosed Locations [nycnoise]
DTSTART:20251106T000000Z
DTEND:20251106T010000Z
UID:1e39ddd5-e307-4b76-ac69-1bf5f2cffb91
CREATED:20260425T203633Z
DESCRIPTION:
LOCATION:intercomm (584 Woodward Ave\, Ridgewood\, NY 11385)
END:VEVENT
END:VCALENDAR
