BEGIN:VCALENDAR
BEGIN:VEVENT
SUMMARY:SOS (Sound on Sound): Chris Williams\, Justin Allen\, Nana XOXO [n
 ycnoise]
DTSTART:20251118T010000Z
DTEND:20251118T020000Z
UID:4dd09907-a6e5-4320-ad7c-f0afe25b06c8
CREATED:20260425T203930Z
DESCRIPTION:curated by BK
LOCATION:intercomm (584 Woodward Ave\, Ridgewood\, NY 11385)
END:VEVENT
END:VCALENDAR
