BEGIN:VCALENDAR
BEGIN:VEVENT
SUMMARY:8BALL RADIO BENEFIT: Law Office\, Liam G\, Pop Diary [nycnoise]
DTSTART:20251121T000000Z
DTEND:20251121T010000Z
UID:33797530-409c-4e89-b36d-d7afcdf42773
CREATED:20260425T203803Z
DESCRIPTION:in intercomm stories: screenshot
LOCATION:intercomm (584 Woodward Ave\, Ridgewood\, NY 11385)
END:VEVENT
END:VCALENDAR
