BEGIN:VCALENDAR
BEGIN:VEVENT
SUMMARY:Judith Berkson\, Jerry Lim & Chuck Bettis\, Emma Rose [nycnoise]
DTSTART:20251122T000000Z
DTEND:20251122T010000Z
UID:9bf0353f-6fef-4cec-b07b-3f6f3449e09f
CREATED:20260425T203806Z
DESCRIPTION:should show on chuck's insta asap
LOCATION:sunview acropolis (257 Nassau Ave\, Brooklyn\, NY 11222)
END:VEVENT
END:VCALENDAR
