BEGIN:VCALENDAR
BEGIN:VEVENT
SUMMARY:Ron House\, DJ Vinnie Martini [nycnoise]
DTSTART:20251108T013000Z
DTEND:20251108T023000Z
UID:70e43b79-f9df-49f6-8cbb-ef896591c75d
CREATED:20260425T203849Z
DESCRIPTION:
LOCATION:ergot records (32 e. 2nd st.\, manhattan)
END:VEVENT
END:VCALENDAR
