BEGIN:VCALENDAR
BEGIN:VEVENT
SUMMARY:PLEASE YS: Saadi\, Talk Bazaar\, Julia Anrather [nycnoise]
DTSTART:20251122T003000Z
DTEND:20251122T013000Z
UID:818d79ce-1355-4563-ba37-18c73d529e09
CREATED:20260425T204014Z
DESCRIPTION:
LOCATION:please y.s.
END:VEVENT
END:VCALENDAR
