BEGIN:VCALENDAR
BEGIN:VEVENT
SUMMARY:Pique-nique presents Unheard: Ami Dang\, Hanna Olivegren\, Anne Is
 hii [nycnoise]
DTSTART:20251123T220000Z
DTEND:20251123T230000Z
UID:40ee3ef5-fdb4-4853-885b-fbf0fbd4d8ac
CREATED:20260425T203831Z
DESCRIPTION:
LOCATION:light & sound design
END:VEVENT
END:VCALENDAR
