BEGIN:VCALENDAR
BEGIN:VEVENT
SUMMARY:Sara Schoenbeck\, Sam Weinberg [nycnoise]
DTSTART:20251122T010000Z
DTEND:20251122T020000Z
UID:c8e19c2b-c9e2-47dc-ba38-f69c7dd2e71d
CREATED:20260425T204015Z
DESCRIPTION:
LOCATION:lava club
END:VEVENT
END:VCALENDAR
