BEGIN:VCALENDAR
BEGIN:VEVENT
SUMMARY:Hans Young Binter\, Yo Vinyl Richie [nycnoise]
DTSTART:20251123T010000Z
DTEND:20251123T020000Z
UID:394de4dd-cea8-4838-84e8-c4368dfe9fe2
CREATED:20260425T203852Z
DESCRIPTION:
LOCATION:lava club
END:VEVENT
END:VCALENDAR
