BEGIN:VCALENDAR
BEGIN:VEVENT
SUMMARY:The 49ers (Anders Nilsson & Ty Citerman)\, Katie Porter / Eli Wall
 ace / James Ilgenfritz\, Dan Blake & Stelios Mihas [nycnoise]
DTSTART:20251122T010000Z
DTEND:20251122T020000Z
UID:6be9f084-7b9d-4206-9ee9-4cd69152bca4
CREATED:20260425T203850Z
DESCRIPTION:byob
LOCATION:prospect series apt (1923 8th ave (corner of 20th st.)\, south sl
 ope\, bklyn)
END:VEVENT
END:VCALENDAR
