BEGIN:VCALENDAR
BEGIN:VEVENT
SUMMARY:Stan Zenkov\, Shu Odamura\, Philip Sirois\, Ken Kobayashi [nycnois
 e]
DTSTART:20251112T010000Z
DTEND:20251112T020000Z
UID:0f8f7485-85d6-492f-8f41-6b5dbf74cd9b
CREATED:20260425T203701Z
DESCRIPTION:
LOCATION:troost (1011 manhattan ave\, brooklyn)
END:VEVENT
END:VCALENDAR
