BEGIN:VCALENDAR
BEGIN:VEVENT
SUMMARY:Facing (Album Release)\, Babybaby_Explores\, Moon Diagrams [nycnoi
 se]
DTSTART:20251115T000000Z
DTEND:20251115T010000Z
UID:974cc971-e0b7-4257-9b49-19387ebfc853
CREATED:20260425T203609Z
DESCRIPTION:flyer!
LOCATION:trans-pecos (9-15 wyckoff ave\, ridgewood)
END:VEVENT
END:VCALENDAR
