BEGIN:VCALENDAR
BEGIN:VEVENT
SUMMARY:Punks Take Parkside: Eevie Echoes & the Locations\, Lake Lanier\, 
 A Total Wreck [nycnoise]
DTSTART:20251120T003000Z
DTEND:20251120T013000Z
UID:96d3eace-3be4-4933-a7c7-f3813886d411
CREATED:20260425T203701Z
DESCRIPTION:possible strobes 💡 &amp\; fog 💨
LOCATION:parkside lounge (317 e. houston st.\, manhattan)
END:VEVENT
END:VCALENDAR
