BEGIN:VCALENDAR
BEGIN:VEVENT
SUMMARY:Raina Sokolov-Gonzalez\, Maia Kamil [nycnoise]
DTSTART:20251122T003000Z
DTEND:20251122T013000Z
UID:cdbad15f-1dd6-477c-97ec-cec5798641e0
CREATED:20260425T203930Z
DESCRIPTION:7pm doors
LOCATION:night club 101 (101 avenue a\, manhattan)
END:VEVENT
END:VCALENDAR
