BEGIN:VCALENDAR
BEGIN:VEVENT
SUMMARY:DMG Free Tues: Sketchbook Series #12: ReMonkability (patrick brenn
 an\, Ryan Easter\, Hilliard Greene\, Michael T.A. Thompson)\, Thing Of Thi
 s Nature (Shogo Yamagishi\, Caylie Davis\, Chris Ferrari\, JJ Mazza)\, Nic
 k Neuberg / TJ Borden / Sabrina Salmone / Evan Palmer [nycnoise]
DTSTART:20251209T233000Z
DTEND:20251210T003000Z
UID:50d8337e-f819-4887-8d31-4ffe7b1f1737
CREATED:20260425T183803Z
DESCRIPTION:
LOCATION:downtown music gallery (13 monroe st.\, manhattan)
END:VEVENT
END:VCALENDAR
