BEGIN:VCALENDAR
BEGIN:VEVENT
SUMMARY:DMG Free Tues: Beyond Flute Group (Cheryl Pyle\, Gene Coleman\, Ay
 umi Ishito\, Ras Moshe Burnett)\, Ben Goldberg\, Santa Pigeons (Sana Nagan
 o\, Matt Hollenberg\, Eva Lewitts) [nycnoise]
DTSTART:20251223T233000Z
DTEND:20251224T003000Z
UID:a90e712b-f983-49bc-9f69-ee7699cdbe18
CREATED:20260425T184106Z
DESCRIPTION:
LOCATION:downtown music gallery (13 monroe st.\, manhattan)
END:VEVENT
END:VCALENDAR
