BEGIN:VCALENDAR
BEGIN:VEVENT
SUMMARY:DMG Free Tues: patrick brennan / Hilliard Greene / Jason Kao Hwang
  / Michael T.A. Thompson\, KnCurrent (brennan\, Cooper-Moore\, On Ka'a Dav
 is\, Hwang)\, Open Question (Ayumi Ishito\, Daniel Carter\, Eric Plaks\, Z
 ach Swanson\, Jon Panikkar) [nycnoise]
DTSTART:20260113T233000Z
DTEND:20260114T003000Z
UID:76412522-f8e3-4d96-bf3a-d3af8c5cb4f5
CREATED:20260425T165004Z
DESCRIPTION:
LOCATION:downtown music gallery (13 monroe st.\, manhattan)
END:VEVENT
END:VCALENDAR
