BEGIN:VCALENDAR
BEGIN:VEVENT
SUMMARY:Evie [nycnoise]
DTSTART:20251201T003000Z
DTEND:20251201T013000Z
UID:951446af-b423-4f9b-aa0e-955d5e1240f5
CREATED:20260425T203703Z
DESCRIPTION:lineup asap
LOCATION:record shop (360 van brunt st.\, brooklyn)
END:VEVENT
END:VCALENDAR
