BEGIN:VCALENDAR
BEGIN:VEVENT
SUMMARY:8 Ball Radio Presents: Shalma\, Rice Rips\, Stola [nycnoise]
DTSTART:20251115T010000Z
DTEND:20251115T020000Z
UID:3b9cb906-706a-4704-bd4a-06f3999e67d3
CREATED:20260425T203702Z
DESCRIPTION:🇵🇸 PACBI (8 ball) // 7:30pm doors
LOCATION:francis kite club (40 loisaida ave\, manhattan)
END:VEVENT
END:VCALENDAR
