BEGIN:VCALENDAR
BEGIN:VEVENT
SUMMARY:deerfrance\, The Scene Is Now\, Tiers La Familia [nycnoise]
DTSTART:20251123T020000Z
DTEND:20251123T030000Z
UID:75edaa2a-015f-4d6f-abe4-1864d38d9c74
CREATED:20260425T203704Z
DESCRIPTION:8:30pm doors\; TSIN: Chris Nelson\, Greg Peterson\, Steven Lev
 i\, Cheryl Kingan\, Bob Bannister\, Blake Lindberg\; TLF: Sef Sidney\, Che
 ryl Kingan\, 3rd
LOCATION:francis kite club (40 loisaida ave\, manhattan)
END:VEVENT
END:VCALENDAR
