BEGIN:VCALENDAR
BEGIN:VEVENT
SUMMARY:E L U C I D \, DJ Haram [nycnoise]
DTSTART:20260208T003000Z
DTEND:20260208T013000Z
UID:5231037e-e07f-49da-bb38-01fb8ac79bfb
CREATED:20260425T144901Z
DESCRIPTION:7pm doors
LOCATION:night club 101 (101 avenue a\, manhattan)
END:VEVENT
END:VCALENDAR
