BEGIN:VCALENDAR
BEGIN:VEVENT
SUMMARY:Ben Stapp: Uzmic Ro’Samg explorations [nycnoise]
DTSTART:20251208T010000Z
DTEND:20251208T020000Z
UID:411790e3-2a1e-456d-be2c-faf0af10b9e4
CREATED:20260425T184111Z
DESCRIPTION:
LOCATION:loove annex (238 N 12th St\, Brooklyn\, NY 11211)
END:VEVENT
END:VCALENDAR
