BEGIN:VCALENDAR
BEGIN:VEVENT
SUMMARY:Errant Forms B'Day Special: Rhino Clark\, Daystar\, wahala.wav\, T
 itonton Duvanté\, Love Higher [nycnoise]
DTSTART:20251115T030000Z
DTEND:20251115T040000Z
UID:61c095f7-5795-4687-bc7d-85a3fbb8e1a7
CREATED:20260425T203831Z
DESCRIPTION:
LOCATION:bossa nova civic club (1271 myrtle ave\, brooklyn)
END:VEVENT
END:VCALENDAR
