BEGIN:VCALENDAR
BEGIN:VEVENT
SUMMARY:S.L.I.P: DILUVIA\, MORENXXX\, 41 °3 [nycnoise]
DTSTART:20251116T030000Z
DTEND:20251116T040000Z
UID:ad6f34ae-c670-4c3a-bd1b-79b2da66ed1e
CREATED:20260425T203806Z
DESCRIPTION:
LOCATION:bossa nova civic club (1271 myrtle ave\, brooklyn)
END:VEVENT
END:VCALENDAR
