BEGIN:VCALENDAR
BEGIN:VEVENT
SUMMARY:Midnight Ecstasy Album Release: Relaxer\, Battygyal\, Eva Loveless
 \, Hannah Account\, Elly DJ [nycnoise]
DTSTART:20251117T000000Z
DTEND:20251117T010000Z
UID:d5e7caa8-e959-4f08-8dc1-79f03bf81570
CREATED:20260425T203805Z
DESCRIPTION:
LOCATION:bossa nova civic club (1271 myrtle ave\, brooklyn)
END:VEVENT
END:VCALENDAR
