BEGIN:VCALENDAR
BEGIN:VEVENT
SUMMARY:Zeitgeist: Angel Money\, Siren\, Actual Angel\, Brutal Twink b2b S
 ubcultures\, Melona b2b Sheath\, Bleakhaven [nycnoise]
DTSTART:20251118T030000Z
DTEND:20251118T040000Z
UID:ce3bb91a-b3ab-4e45-a324-0ebd07642181
CREATED:20260425T203806Z
DESCRIPTION:
LOCATION:bossa nova civic club (1271 myrtle ave\, brooklyn)
END:VEVENT
END:VCALENDAR
