BEGIN:VCALENDAR
BEGIN:VEVENT
SUMMARY:Unscripted Soundscapes: Jeff Pearring / Megumi Yonezawa / Shogo El
 lefson / Ken Kobayashi\, Matt Knoegel / Colson Jimenez / Nick Neuburg\, El
  Duo Eric x Eric (Eric Plaks & Eric Shorter) [nycnoise]
DTSTART:20251122T230000Z
DTEND:20251123T000000Z
UID:fc20608c-6cae-4c4e-a500-06c373c83eeb
CREATED:20260425T203803Z
DESCRIPTION:
LOCATION:ibeam (168 7th st.\, brooklyn)
END:VEVENT
END:VCALENDAR
