BEGIN:VCALENDAR
BEGIN:VEVENT
SUMMARY:Eyal Maoz Band (w/ Robert Boston\, Shanir Blumenkranz\, Kevin Zube
 k) [nycnoise]
DTSTART:20251117T001500Z
DTEND:20251117T011500Z
UID:06ed30ba-de36-48bf-b306-ac1b52f67745
CREATED:20260425T203631Z
DESCRIPTION:
LOCATION:big bar (75 E 7th St\, New York\, NY 10003)
END:VEVENT
END:VCALENDAR
