BEGIN:VCALENDAR
BEGIN:VEVENT
SUMMARY:Plastic Case (Joseph Sledgianowski & Issac Parker)\, Maks\, rabbis
 travinsky [nycnoise]
DTSTART:20251123T220000Z
DTEND:20251123T230000Z
UID:9f57dc83-287c-4559-aaac-63bd3fda8cbd
CREATED:20260425T203804Z
DESCRIPTION:Maks: Max Abeles\; rabbistravinsky: Jacob Cohen
LOCATION:p.i.t. (property is theft) (411 s. 5th st.\, brooklyn)
END:VEVENT
END:VCALENDAR
