BEGIN:VCALENDAR
BEGIN:VEVENT
SUMMARY:Gamelan Kusuma Laras presents Klenèngan [Javanese Jam] [nycnoise]
DTSTART:20251213T210000Z
DTEND:20251213T220000Z
UID:42179d37-926c-424f-a0cb-d2ef9c44f598
CREATED:20260425T183832Z
DESCRIPTION:"relaxed atmosphere. come &amp\; go as you wish"
LOCATION:indonesian consulate (5 E 68th St\, New York\, NY 10065)
END:VEVENT
END:VCALENDAR
