BEGIN:VCALENDAR
BEGIN:VEVENT
SUMMARY:Everywhen Band (Theo Woodward\, Katya Naphtali\, Hans Tammen) [nyc
 noise]
DTSTART:20251124T010000Z
DTEND:20251124T020000Z
UID:662616a9-65ed-41c9-a605-f0b951649aa7
CREATED:20260425T203656Z
DESCRIPTION:
LOCATION:troost (1011 manhattan ave\, brooklyn)
END:VEVENT
END:VCALENDAR
