BEGIN:VCALENDAR
BEGIN:VEVENT
SUMMARY:Stan Zenkov [nycnoise]
DTSTART:20251120T010000Z
DTEND:20251120T020000Z
UID:c6931f9d-bdc2-45bf-b6ec-784db9debe47
CREATED:20260425T203632Z
DESCRIPTION:
LOCATION:troost (1011 manhattan ave\, brooklyn)
END:VEVENT
END:VCALENDAR
