BEGIN:VCALENDAR
BEGIN:VEVENT
SUMMARY:Nice Try\, Kid: Ari Folman-Cohen / Bobby Hawk / Rob Heath\, Mike R
 obinson [nycnoise]
DTSTART:20251125T010000Z
DTEND:20251125T020000Z
UID:ad9cec7a-3436-4eea-9819-8b407f99e914
CREATED:20260425T203632Z
DESCRIPTION:
LOCATION:troost (1011 manhattan ave\, brooklyn)
END:VEVENT
END:VCALENDAR
