BEGIN:VCALENDAR
BEGIN:VEVENT
SUMMARY:Busboy\, PFFU\, Folding [nycnoise]
DTSTART:20251202T010000Z
DTEND:20251202T020000Z
UID:038b7a4b-48d6-4935-8c62-cbeb1209e19b
CREATED:20260425T183806Z
DESCRIPTION:7pm doors
LOCATION:trans-pecos (9-15 wyckoff ave\, ridgewood)
END:VEVENT
END:VCALENDAR
