BEGIN:VCALENDAR
BEGIN:VEVENT
SUMMARY:Women-led Rock: Freyja\, Chammeili\, Lena Kutscher [nycnoise]
DTSTART:20251204T010000Z
DTEND:20251204T020000Z
UID:1326e827-9269-433c-99d6-226ab19cc132
CREATED:20260425T183829Z
DESCRIPTION:"$3 from each ticket donated to She Is the Music"
LOCATION:alphaville (140 wilson ave\, brooklyn)
END:VEVENT
END:VCALENDAR
