BEGIN:VCALENDAR
BEGIN:VEVENT
SUMMARY:OPEN AiR: Crackhead Barney: 'AN EVENING WITH NIGGA CLAUS (WHITE SA
 NTA IS DEAD)' [nycnoise]
DTSTART:20251121T200000Z
DTEND:20251121T210000Z
UID:a2dd15c1-3a2e-4e38-8517-f9c46bae8787
CREATED:20260425T203658Z
DESCRIPTION:"come and go as you please" (6 hrs would be a lotta barney) &a
 mp\; "bring a toy for the Toy Drive"
LOCATION:cpr (center for performance research) (361 manhattan ave\, brookl
 yn)
END:VEVENT
END:VCALENDAR
