BEGIN:VCALENDAR
BEGIN:VEVENT
SUMMARY:Stereo Mandrax Presents: Shilpa Ray\, Brian Chase\, MamajoeVramajo
 e [nycnoise]
DTSTART:20251201T000000Z
DTEND:20251201T010000Z
UID:078745bf-ae83-4fbe-9c19-80314d12b27d
CREATED:20260425T203655Z
DESCRIPTION:
LOCATION:pianos (158 Ludlow St\, New York\, NY 10002)
END:VEVENT
END:VCALENDAR
